BEGIN:VCALENDAR
VERSION:2.0
PRODID:-//Plone.org//NONSGML plone.app.event//EN
X-WR-TIMEZONE:Europe/Madrid
BEGIN:VEVENT
SUMMARY:JORNADA D'HANDBOL I PRESENTACIÓ D'EQUIPS 2017-18
DTSTART;TZID=Europe/Madrid;VALUE=DATE-TIME:20171022T100000
DTEND;TZID=Europe/Madrid;VALUE=DATE-TIME:20171022T110000
DTSTAMP;VALUE=DATE-TIME:20260420T070800Z
UID:b5fb877ff843689884a0993c1356c72b
CREATED;VALUE=DATE-TIME:20171022T000000Z
CATEGORIES:Esports
LOCATION:Pavelló municipal - Carrer dels Contrabandistes, s/n
DESCRIPTION:del Club Handbol Llavaneres Maresme
URL:https://ajllavaneres.cat/document.php?id=11978
END:VEVENT
END:VCALENDAR