BEGIN:VCALENDAR
VERSION:2.0
PRODID:-//Plone.org//NONSGML plone.app.event//EN
X-WR-TIMEZONE:Europe/Madrid
BEGIN:VEVENT
SUMMARY:TERCER CONCURS de PERCUSSIÓ &OpenCurlyDoubleQuote;LLAVATRAKA&CloseCurlyDoubleQuote;
DTSTART;TZID=Europe/Madrid;VALUE=DATE-TIME:20171202T170000
DTEND;TZID=Europe/Madrid;VALUE=DATE-TIME:20171202T180000
DTSTAMP;VALUE=DATE-TIME:20260419T182924Z
UID:dab82729b8d0690f0359bb0f779a7e37
CREATED;VALUE=DATE-TIME:20171202T000000Z
CATEGORIES:Festa
LOCATION:Pels carrers del poble i parc de ca l´Alfaro.
ORGANIZER:Batubanyuts del Casal
URL:https://ajllavaneres.cat/document.php?id=12032
END:VEVENT
END:VCALENDAR