BEGIN:VCALENDAR
VERSION:2.0
PRODID:-//Plone.org//NONSGML plone.app.event//EN
X-WR-TIMEZONE:Europe/Madrid
BEGIN:VEVENT
SUMMARY:Taller de postals de Nadal, a càrrec d'Imma Dorda Pallarolas
DTSTART;TZID=Europe/Madrid;VALUE=DATE-TIME:20171216T120000
DTEND;TZID=Europe/Madrid;VALUE=DATE-TIME:20171216T130000
DTSTAMP;VALUE=DATE-TIME:20260419T173358Z
UID:c098a2c5bcaf8794412b3ce8bcbe36f8
CREATED;VALUE=DATE-TIME:20171216T000000Z
CATEGORIES:Infantils
LOCATION:Sala infantil de la Biblioteca Municipal - Closens, 65
ORGANIZER:Biblioteca Municipal ; Regidoria de Cultura
COMMENT:Durada: 1 hora (aproximadament)
URL:https://ajllavaneres.cat/document.php?id=12038
END:VEVENT
END:VCALENDAR