BEGIN:VCALENDAR
VERSION:2.0
PRODID:-//Plone.org//NONSGML plone.app.event//EN
X-WR-TIMEZONE:Europe/Madrid
BEGIN:VEVENT
SUMMARY:Navega amb la Marató de TV3
DTSTART;TZID=Europe/Madrid;VALUE=DATE-TIME:20171217T101500
DTEND;TZID=Europe/Madrid;VALUE=DATE-TIME:20171217T111500
DTSTAMP;VALUE=DATE-TIME:20260419T165459Z
UID:c2b96982dbb96c58a368bba556ad1592
CREATED;VALUE=DATE-TIME:20171217T000000Z
CATEGORIES:Esports
LOCATION:Port Balís
COMMENT:Preu: 5&euro;
URL:https://ajllavaneres.cat/document.php?id=12040
END:VEVENT
END:VCALENDAR