BEGIN:VCALENDAR
VERSION:2.0
PRODID:-//Plone.org//NONSGML plone.app.event//EN
X-WR-TIMEZONE:Europe/Madrid
BEGIN:VEVENT
SUMMARY:Concert de Nadal de l'Escola Municipal de Música Llavaneres
DTSTART;TZID=Europe/Madrid;VALUE=DATE-TIME:20171218T190000
DTEND;TZID=Europe/Madrid;VALUE=DATE-TIME:20171218T200000
DTSTAMP;VALUE=DATE-TIME:20260419T235309Z
UID:cdb4e1f4660eff39317ee88dca798957
CREATED;VALUE=DATE-TIME:20171218T000000Z
CATEGORIES:Música
LOCATION:Institut Llavaneres
ORGANIZER:Escola Municipal de Música Llavaneres
COMMENT:Preu: Gratuït
DESCRIPTION:Concert dels Conjunts instrumentals
URL:https://ajllavaneres.cat/document.php?id=12043
END:VEVENT
END:VCALENDAR