BEGIN:VCALENDAR
VERSION:2.0
PRODID:-//Plone.org//NONSGML plone.app.event//EN
X-WR-TIMEZONE:Europe/Madrid
BEGIN:VEVENT
SUMMARY:SORTIDA a OLOST, al PANTÀ GAVARRESA (Osona)
DTSTART;TZID=Europe/Madrid;VALUE=DATE-TIME:20171214T070000
DTEND;TZID=Europe/Madrid;VALUE=DATE-TIME:20171214T080000
DTSTAMP;VALUE=DATE-TIME:20260420T071113Z
UID:9e6ae18529517cab17184b51b0c78a7d
CREATED;VALUE=DATE-TIME:20171214T000000Z
CATEGORIES:Esports
LOCATION:Davant El CAP
ORGANIZER:Secció Sènior del Casal
URL:https://ajllavaneres.cat/document.php?id=12080
END:VEVENT
END:VCALENDAR