BEGIN:VCALENDAR
VERSION:2.0
PRODID:-//Plone.org//NONSGML plone.app.event//EN
X-WR-TIMEZONE:Europe/Madrid
BEGIN:VEVENT
SUMMARY:SORTIDA de GEGANTS a CALDETES
DTSTART;TZID=Europe/Madrid;VALUE=DATE-TIME:20171217T113000
DTEND;TZID=Europe/Madrid;VALUE=DATE-TIME:20171217T123000
DTSTAMP;VALUE=DATE-TIME:20260419T171605Z
UID:0ddecbad235abeb35eec7740f55504b0
CREATED;VALUE=DATE-TIME:20171217T000000Z
CATEGORIES:Festa
LOCATION:El Casal de Llavaneres - Avinguda de Catalunya, 56
ORGANIZER:Secció de Tradicions i Festes Catalanes del Casal.
URL:https://ajllavaneres.cat/document.php?id=12082
END:VEVENT
END:VCALENDAR