BEGIN:VCALENDAR
VERSION:2.0
PRODID:-//Plone.org//NONSGML plone.app.event//EN
X-WR-TIMEZONE:Europe/Madrid
BEGIN:VEVENT
SUMMARY:INAUGURACIÓ del PESSEBRE del CASAL
DTSTART;TZID=Europe/Madrid;VALUE=DATE-TIME:20171223T180000
DTEND;TZID=Europe/Madrid;VALUE=DATE-TIME:20171223T190000
DTSTAMP;VALUE=DATE-TIME:20260420T084016Z
UID:d46603f47cfc7b5a5cbb6aff15e98820
CREATED;VALUE=DATE-TIME:20171223T000000Z
CATEGORIES:Exposició
LOCATION:Sala de socis planta baixa
ORGANIZER:Secció de Tradicions i Festes Catalanes del Casal.
URL:https://ajllavaneres.cat/document.php?id=12091
END:VEVENT
END:VCALENDAR