BEGIN:VCALENDAR
VERSION:2.0
PRODID:-//Plone.org//NONSGML plone.app.event//EN
X-WR-TIMEZONE:Europe/Madrid
BEGIN:VEVENT
SUMMARY:XXII APLEC DE SANT SEBASTIÀ
DTSTART;TZID=Europe/Madrid;VALUE=DATE-TIME:20180120T110000
DTEND;TZID=Europe/Madrid;VALUE=DATE-TIME:20180120T120000
DTSTAMP;VALUE=DATE-TIME:20260419T165402Z
UID:1de91d2a737e7e6e99a5ca46ef1462d8
CREATED;VALUE=DATE-TIME:20180120T000000Z
LOCATION:Ermita de Sant Sebastià
ORGANIZER:Parròquia de Sant Andreu de Llavaneres
URL:https://ajllavaneres.cat/document.php?id=12158
END:VEVENT
END:VCALENDAR