BEGIN:VCALENDAR
VERSION:2.0
PRODID:-//Plone.org//NONSGML plone.app.event//EN
X-WR-TIMEZONE:Europe/Madrid
BEGIN:VEVENT
SUMMARY:Xerrada-col·loqui: 'Vols saber què està passant?', a càrrec de Vicent Partal
DTSTART;TZID=Europe/Madrid;VALUE=DATE-TIME:20180209T193000
DTEND;TZID=Europe/Madrid;VALUE=DATE-TIME:20180209T203000
DTSTAMP;VALUE=DATE-TIME:20260419T152628Z
UID:7551bd76ef839cada7b6fda8762a462c
CREATED;VALUE=DATE-TIME:20180209T000000Z
CATEGORIES:Conferència
LOCATION:El Casal de Llavaneres, sala polivalent
ORGANIZER:ANC de Llavaneres
URL:https://ajllavaneres.cat/document.php?id=12279
END:VEVENT
END:VCALENDAR