BEGIN:VCALENDAR
VERSION:2.0
PRODID:-//Plone.org//NONSGML plone.app.event//EN
X-WR-TIMEZONE:Europe/Madrid
BEGIN:VEVENT
SUMMARY:Petit mercat del disc i la ceràmica
DTSTART;TZID=Europe/Madrid;VALUE=DATE-TIME:20180407T235500
DTEND;TZID=Europe/Madrid;VALUE=DATE-TIME:20180408T005500
DTSTAMP;VALUE=DATE-TIME:20260419T233740Z
UID:fd7a5448df289f01b534015c7b689353
CREATED;VALUE=DATE-TIME:20180407T000000Z
CATEGORIES:Exposició,Música
LOCATION:Pati de Can Tàpias del carrer de Munt
ORGANIZER:Pro Ball de Gitanes de Llavaneres. Secció de Cultura
URL:https://ajllavaneres.cat/document.php?id=12428
END:VEVENT
END:VCALENDAR