BEGIN:VCALENDAR
VERSION:2.0
PRODID:-//Plone.org//NONSGML plone.app.event//EN
X-WR-TIMEZONE:Europe/Madrid
BEGIN:VEVENT
SUMMARY:Participació d'El Casal a la Fira en l'elaboració i servei del pèsol garrofal provinent de les hortes de Llavaneres
DTSTART;TZID=Europe/Madrid;VALUE=DATE-TIME:20180421T235500
DTEND;TZID=Europe/Madrid;VALUE=DATE-TIME:20180422T005500
DTSTAMP;VALUE=DATE-TIME:20260420T053443Z
UID:c386f9034ea9159c16004c2a1f0c39b4
CREATED;VALUE=DATE-TIME:20180421T000000Z
CATEGORIES:Festa,Infantils
LOCATION:El Casal de Llavaneres
ORGANIZER:Secció de Tracicions i Festes catalanes del Casal de Llavaneres
URL:https://ajllavaneres.cat/document.php?id=12492
END:VEVENT
END:VCALENDAR