BEGIN:VCALENDAR
VERSION:2.0
PRODID:-//Plone.org//NONSGML plone.app.event//EN
X-WR-TIMEZONE:Europe/Madrid
BEGIN:VEVENT
SUMMARY:Hora del conte en anglès
DTSTART;TZID=Europe/Madrid;VALUE=DATE-TIME:20180512T120000
DTEND;TZID=Europe/Madrid;VALUE=DATE-TIME:20180512T130000
DTSTAMP;VALUE=DATE-TIME:20260420T022938Z
UID:c4d8901e7b10242e482daeea742822af
CREATED;VALUE=DATE-TIME:20180512T000000Z
CATEGORIES:Infantils
LOCATION:Sala infantil de la Biblioteca Municipal - Closens, 65
ORGANIZER:Biblioteca Municipal ; Regidoria de Cultura
DESCRIPTION:Contes en anglès a càrrec de Kids and us Argentona
URL:https://ajllavaneres.cat/document.php?id=12564
END:VEVENT
END:VCALENDAR