BEGIN:VCALENDAR
VERSION:2.0
PRODID:-//Plone.org//NONSGML plone.app.event//EN
X-WR-TIMEZONE:Europe/Madrid
BEGIN:VEVENT
SUMMARY:Concert de gala amb l'Orquestra Maravella
DTSTART;TZID=Europe/Madrid;VALUE=DATE-TIME:20180715T190000
DTEND;TZID=Europe/Madrid;VALUE=DATE-TIME:20180715T200000
DTSTAMP;VALUE=DATE-TIME:20260421T082311Z
UID:04adab13497ec5c4546663e1f78311fa
CREATED;VALUE=DATE-TIME:20180715T000000Z
CATEGORIES:Festa
LOCATION:Parc de Ca l'Alfaro - Passeig de la Mare de Déu de Montserrat, 27-33
URL:https://ajllavaneres.cat/document.php?id=12761
END:VEVENT
END:VCALENDAR