BEGIN:VCALENDAR
VERSION:2.0
PRODID:-//Plone.org//NONSGML plone.app.event//EN
X-WR-TIMEZONE:Europe/Madrid
BEGIN:VEVENT
SUMMARY:Marc Ferrer Trio
DTSTART;TZID=Europe/Madrid;VALUE=DATE-TIME:20180831T220000
DTEND;TZID=Europe/Madrid;VALUE=DATE-TIME:20180831T230000
DTSTAMP;VALUE=DATE-TIME:20260422T165955Z
UID:f71e851edf8660031f9aefd3f9372b29
CREATED;VALUE=DATE-TIME:20180831T000000Z
CATEGORIES:Música
LOCATION:Jardins de Can Caralt - Can Caralt
ORGANIZER:Regidoria de Cultura i Festes, amb el suport de la Comissió de Festes
URL:https://ajllavaneres.cat/document.php?id=12779
END:VEVENT
END:VCALENDAR