BEGIN:VCALENDAR
VERSION:2.0
PRODID:-//Plone.org//NONSGML plone.app.event//EN
X-WR-TIMEZONE:Europe/Madrid
BEGIN:VEVENT
SUMMARY:Sessió informativa
DTSTART;TZID=Europe/Madrid;VALUE=DATE-TIME:20080410T190000
DTEND;TZID=Europe/Madrid;VALUE=DATE-TIME:20080410T200000
DTSTAMP;VALUE=DATE-TIME:20260426T041837Z
UID:e650f3b1f0cec4573dd40ce994b2bd06
CREATED;VALUE=DATE-TIME:20080410T000000Z
LOCATION:Sala d'actes de la Biblioteca Municipal
ORGANIZER:Regidoria de Medi Ambient
DESCRIPTION:sobre arbredes monumentals de Llavaneres
URL:https://ajllavaneres.cat/document.php?id=1322
END:VEVENT
END:VCALENDAR