BEGIN:VCALENDAR
VERSION:2.0
PRODID:-//Plone.org//NONSGML plone.app.event//EN
X-WR-TIMEZONE:Europe/Madrid
BEGIN:VEVENT
SUMMARY:L'hora del conte
DTSTART;TZID=Europe/Madrid;VALUE=DATE-TIME:20190525T120000
DTEND;TZID=Europe/Madrid;VALUE=DATE-TIME:20190525T130000
DTSTAMP;VALUE=DATE-TIME:20260422T133808Z
UID:9f5e55a2ea67edccb68d3db12d93ff5b
CREATED;VALUE=DATE-TIME:20190525T000000Z
CATEGORIES:Infantils
LOCATION:Sala infantil de la Biblioteca Municipal - Closens, 65
ORGANIZER:Biblioteca Municipal ; Regidoria de Cultura
DESCRIPTION:"Contes del dret i del revés", a càrrec de la rondallaire Noemí Caballer
URL:https://ajllavaneres.cat/document.php?id=13266
END:VEVENT
END:VCALENDAR