BEGIN:VCALENDAR
VERSION:2.0
PRODID:-//Plone.org//NONSGML plone.app.event//EN
X-WR-TIMEZONE:Europe/Madrid
BEGIN:VEVENT
SUMMARY:Jornada de portes obertes de l'Escola Serena Vall
DTSTART;TZID=Europe/Madrid;VALUE=DATE-TIME:20190316T100000
DTEND;TZID=Europe/Madrid;VALUE=DATE-TIME:20190316T110000
DTSTAMP;VALUE=DATE-TIME:20260420T042201Z
UID:01a3d337533be6868b18a9536fb02485
CREATED;VALUE=DATE-TIME:20190316T000000Z
LOCATION:Escola Serena Vall
ORGANIZER:Escola Serena Vall
COMMENT:Durada: 3 hores
URL:https://ajllavaneres.cat/document.php?id=13391
END:VEVENT
END:VCALENDAR