BEGIN:VCALENDAR
VERSION:2.0
PRODID:-//Plone.org//NONSGML plone.app.event//EN
X-WR-TIMEZONE:Europe/Madrid
BEGIN:VEVENT
SUMMARY:Recital de veu i piano
DTSTART;TZID=Europe/Madrid;VALUE=DATE-TIME:20190331T190000
DTEND;TZID=Europe/Madrid;VALUE=DATE-TIME:20190331T200000
DTSTAMP;VALUE=DATE-TIME:20260420T083912Z
UID:d73efea3c887041b139d315544898818
CREATED;VALUE=DATE-TIME:20190331T000000Z
CATEGORIES:Música
LOCATION:El Casal de Llavaneres (sala de lectura)
ORGANIZER:Secció de Cultura d'El Casal de Llavaneres
COMMENT:Preu: Aportació voluntària
DESCRIPTION:Un viatge per diferents èpoques de l'art musical
URL:https://ajllavaneres.cat/document.php?id=13456
END:VEVENT
END:VCALENDAR