BEGIN:VCALENDAR
VERSION:2.0
PRODID:-//Plone.org//NONSGML plone.app.event//EN
X-WR-TIMEZONE:Europe/Madrid
BEGIN:VEVENT
SUMMARY:Barba Corsini. Arquitectura i disseny 1953-1994
DTSTART;TZID=Europe/Madrid;VALUE=DATE-TIME:20190412T193000
DTEND;TZID=Europe/Madrid;VALUE=DATE-TIME:20190412T203000
DTSTAMP;VALUE=DATE-TIME:20260422T175619Z
UID:92e0c15f4286aaadca0c249d5f5779f0
CREATED;VALUE=DATE-TIME:20190412T000000Z
CATEGORIES:Exposició
LOCATION:Museu-Arxiu de Llavaneres. Can Caralt - Carretera de Sant Vicenç, 14
ORGANIZER:Museu Arxiu de Sant Andreu de Llavaneres
COMMENT:Preu: Gratuït
Durada: Fins al 19 de maig
URL:https://ajllavaneres.cat/document.php?id=13556
END:VEVENT
END:VCALENDAR