BEGIN:VCALENDAR
VERSION:2.0
PRODID:-//Plone.org//NONSGML plone.app.event//EN
X-WR-TIMEZONE:Europe/Madrid
BEGIN:VEVENT
SUMMARY:1a Trobada de flautes del Maresme
DTSTART;TZID=Europe/Madrid;VALUE=DATE-TIME:20190511T190000
DTEND;TZID=Europe/Madrid;VALUE=DATE-TIME:20190511T200000
DTSTAMP;VALUE=DATE-TIME:20260419T150854Z
UID:b42b3af7b32389cce2c6bcf1503e4a97
CREATED;VALUE=DATE-TIME:20190511T000000Z
CATEGORIES:Mostra,Música,Trobada,Agenda E.M.M.
LOCATION:Llar d'Infants Pública Minerva - Avinguda de Can Amat, 51
ORGANIZER:Escola Municipal de Música Llavaneres
URL:https://ajllavaneres.cat/document.php?id=13585
END:VEVENT
END:VCALENDAR