BEGIN:VCALENDAR
VERSION:2.0
PRODID:-//Plone.org//NONSGML plone.app.event//EN
X-WR-TIMEZONE:Europe/Madrid
BEGIN:VEVENT
SUMMARY:Reunió informativa sobre els ajuts individuals de menjador per al curs 2019-2020
DTSTART;TZID=Europe/Madrid;VALUE=DATE-TIME:20190509T183000
DTEND;TZID=Europe/Madrid;VALUE=DATE-TIME:20190509T193000
DTSTAMP;VALUE=DATE-TIME:20260420T021151Z
UID:fd9e2d3370a2aa7427124060b58e8ce8
CREATED;VALUE=DATE-TIME:20190509T000000Z
CATEGORIES:Reunió
LOCATION:Sala de plens de l'Ajuntament - Plaça de la Vila, 1
ORGANIZER:Regidoria de Benestar Social i Regidoria d'Educació
COMMENT:Durada: 1 hora aproximadament
DESCRIPTION:Al llarg de la reunió es donaran els impresos de sol·licitud
URL:https://ajllavaneres.cat/document.php?id=13596
END:VEVENT
END:VCALENDAR