BEGIN:VCALENDAR
VERSION:2.0
PRODID:-//Plone.org//NONSGML plone.app.event//EN
X-WR-TIMEZONE:Europe/Madrid
BEGIN:VEVENT
SUMMARY:Visita Oficina Mòbil d'Informació al Consumidor
DTSTART;TZID=Europe/Madrid;VALUE=DATE-TIME:20190524T103000
DTEND;TZID=Europe/Madrid;VALUE=DATE-TIME:20190524T113000
DTSTAMP;VALUE=DATE-TIME:20260419T135926Z
UID:3cac82ae4355e8d268e03c92c656ea64
CREATED;VALUE=DATE-TIME:20190524T000000Z
LOCATION:Passeig de la Mare de Déu de Montserrat - Passeig de la Mare de Déu de Montserrat
ORGANIZER:Dept. Consum Diputació de Barcelona
COMMENT:Durada: Fins 13h
URL:https://ajllavaneres.cat/document.php?id=13604
END:VEVENT
END:VCALENDAR