BEGIN:VCALENDAR
VERSION:2.0
PRODID:-//Plone.org//NONSGML plone.app.event//EN
X-WR-TIMEZONE:Europe/Madrid
BEGIN:VEVENT
SUMMARY:Elena Paredes 1955 - 1998. Obres de la Col·lecció Bassat
DTSTART;TZID=Europe/Madrid;VALUE=DATE-TIME:20190613T193000
DTEND;TZID=Europe/Madrid;VALUE=DATE-TIME:20190613T203000
DTSTAMP;VALUE=DATE-TIME:20260419T200247Z
UID:c3f4753c234cc59bf75a7b69d5bedaf9
CREATED;VALUE=DATE-TIME:20190613T000000Z
CATEGORIES:Exposició
LOCATION:Museu-Arxiu de Llavaneres. Can Caralt - Carretera de Sant Vicenç, 14
ORGANIZER:Museu Arxiu de Sant Andreu de Llavaneres i Col·lecció Bassat Art Contemporani de Catalunya
COMMENT:Preu: gratuït
Durada: fins al 28 de juliol
URL:https://ajllavaneres.cat/document.php?id=13680
END:VEVENT
END:VCALENDAR