BEGIN:VCALENDAR
VERSION:2.0
PRODID:-//Plone.org//NONSGML plone.app.event//EN
X-WR-TIMEZONE:Europe/Madrid
BEGIN:VEVENT
SUMMARY:Inflables flotants
DTSTART;TZID=Europe/Madrid;VALUE=DATE-TIME:20190722T110000
DTEND;TZID=Europe/Madrid;VALUE=DATE-TIME:20190722T120000
DTSTAMP;VALUE=DATE-TIME:20260419T141322Z
UID:8942670ff36115f90bcb99369805a1ce
CREATED;VALUE=DATE-TIME:20190722T000000Z
CATEGORIES:Esports
LOCATION:Piscina municipal
ORGANIZER:Regidoria d'Esports
COMMENT:Preu: Gratuït
URL:https://ajllavaneres.cat/document.php?id=13871
END:VEVENT
END:VCALENDAR