BEGIN:VCALENDAR
VERSION:2.0
PRODID:-//Plone.org//NONSGML plone.app.event//EN
X-WR-TIMEZONE:Europe/Madrid
BEGIN:VEVENT
SUMMARY:Concert: Jaume Vilaseca trio
DTSTART;TZID=Europe/Madrid;VALUE=DATE-TIME:20190823T220000
DTEND;TZID=Europe/Madrid;VALUE=DATE-TIME:20190823T230000
DTSTAMP;VALUE=DATE-TIME:20260420T015242Z
UID:c1c4c180b97d3fda3f010662d90ecfbe
CREATED;VALUE=DATE-TIME:20190823T000000Z
LOCATION:Museu-Arxiu de Llavaneres. Can Caralt - Carretera de Sant Vicenç, 14
ORGANIZER:Regidoria de Cultura i Comissió de Festes.
COMMENT:Preu: Gratuït
URL:https://ajllavaneres.cat/document.php?id=13895
END:VEVENT
END:VCALENDAR