BEGIN:VCALENDAR
VERSION:2.0
PRODID:-//Plone.org//NONSGML plone.app.event//EN
X-WR-TIMEZONE:Europe/Madrid
BEGIN:VEVENT
SUMMARY:Descobreix can Caralt a l'agost!
DTSTART;TZID=Europe/Madrid;VALUE=DATE-TIME:20190802T200000
DTEND;TZID=Europe/Madrid;VALUE=DATE-TIME:20190802T210000
DTSTAMP;VALUE=DATE-TIME:20260420T012948Z
UID:752a1f5918a7d50099d8cde6a8277f6c
CREATED;VALUE=DATE-TIME:20190802T000000Z
CATEGORIES:Exposició
LOCATION:Museu-Arxiu de Llavaneres. Can Caralt - Carretera de Sant Vicenç, 14
ORGANIZER:Museu Arxiu de Sant Andreu de Llavaneres
COMMENT:Preu: gratuït
Durada: 1 hora 30 minuts aprox.
URL:https://ajllavaneres.cat/document.php?id=13896
END:VEVENT
END:VCALENDAR