BEGIN:VCALENDAR
VERSION:2.0
PRODID:-//Plone.org//NONSGML plone.app.event//EN
X-WR-TIMEZONE:Europe/Madrid
BEGIN:VEVENT
SUMMARY:Descobreix can Caralt a l'agost!
DTSTART;TZID=Europe/Madrid;VALUE=DATE-TIME:20190809T200000
DTEND;TZID=Europe/Madrid;VALUE=DATE-TIME:20190809T210000
DTSTAMP;VALUE=DATE-TIME:20260420T021348Z
UID:7e7b2ac746a8f4897444e8ed1af053d0
CREATED;VALUE=DATE-TIME:20190809T000000Z
CATEGORIES:Exposició
LOCATION:Museu-Arxiu de Llavaneres. Can Caralt - Carretera de Sant Vicenç, 14
ORGANIZER:Museu Arxiu de Sant Andreu de Llavaneres
COMMENT:Preu: gratuït
Durada: 1 hora 30 minuts aprox.
URL:https://ajllavaneres.cat/document.php?id=13897
END:VEVENT
END:VCALENDAR