BEGIN:VCALENDAR
VERSION:2.0
PRODID:-//Plone.org//NONSGML plone.app.event//EN
X-WR-TIMEZONE:Europe/Madrid
BEGIN:VEVENT
SUMMARY:Concelebració de l'Eucaristia
DTSTART;TZID=Europe/Madrid;VALUE=DATE-TIME:20191130T113000
DTEND;TZID=Europe/Madrid;VALUE=DATE-TIME:20191130T123000
DTSTAMP;VALUE=DATE-TIME:20260421T050232Z
UID:aab7ac207c55518a11dde0d97d35b0ab
CREATED;VALUE=DATE-TIME:20191130T000000Z
LOCATION:Temple parroquial - Carrer de Munt
ORGANIZER:Temple Parroquial de Llavaneres
URL:https://ajllavaneres.cat/document.php?id=14116
END:VEVENT
END:VCALENDAR