BEGIN:VCALENDAR
VERSION:2.0
PRODID:-//Plone.org//NONSGML plone.app.event//EN
X-WR-TIMEZONE:Europe/Madrid
BEGIN:VEVENT
SUMMARY:Fira de la Coca de Llavaneres
DTSTART;TZID=Europe/Madrid;VALUE=DATE-TIME:20191117T100000
DTEND;TZID=Europe/Madrid;VALUE=DATE-TIME:20191117T110000
DTSTAMP;VALUE=DATE-TIME:20260422T133826Z
UID:f078e9251f76ee65b2173605ed5a311e
CREATED;VALUE=DATE-TIME:20191117T000000Z
CATEGORIES:Exposició,Mostra
LOCATION:Parc del Primer d'Octubre
ORGANIZER:Regidoria de Promoció Econòmica
COMMENT:Durada: Fins a les 14:00h
DESCRIPTION:Espai Gastronòmic i exposició de bolets
URL:https://ajllavaneres.cat/document.php?id=14203
END:VEVENT
END:VCALENDAR