BEGIN:VCALENDAR
VERSION:2.0
PRODID:-//Plone.org//NONSGML plone.app.event//EN
X-WR-TIMEZONE:Europe/Madrid
BEGIN:VEVENT
SUMMARY:Grup Country
DTSTART;TZID=Europe/Madrid;VALUE=DATE-TIME:20191116T170000
DTEND;TZID=Europe/Madrid;VALUE=DATE-TIME:20191116T180000
DTSTAMP;VALUE=DATE-TIME:20260419T165219Z
UID:54eb17753055be8e6c6bc77c85fb6dfd
CREATED;VALUE=DATE-TIME:20191116T000000Z
CATEGORIES:Dansa,Festa,Música
LOCATION:Casal de la Gent Gran - Passeig de la Mare de Déu de Montserrat, 45
ORGANIZER:Regidoria de Promoció Econòmica
URL:https://ajllavaneres.cat/document.php?id=14207
END:VEVENT
END:VCALENDAR