BEGIN:VCALENDAR
VERSION:2.0
PRODID:-//Plone.org//NONSGML plone.app.event//EN
X-WR-TIMEZONE:Europe/Madrid
BEGIN:VEVENT
SUMMARY:Joc de gegants per a petits i grans
DTSTART;TZID=Europe/Madrid;VALUE=DATE-TIME:20191117T103000
DTEND;TZID=Europe/Madrid;VALUE=DATE-TIME:20191117T113000
DTSTAMP;VALUE=DATE-TIME:20260420T004136Z
UID:7e968593341b02aebdc5cd720785c79d
CREATED;VALUE=DATE-TIME:20191117T000000Z
CATEGORIES:Festa,Infantils
LOCATION:Plaça de la Vila, Carrer de Munt
ORGANIZER:Regidoria de Promoció Econòmica
COMMENT:Durada: Fins a les 13.30 hores
URL:https://ajllavaneres.cat/document.php?id=14217
END:VEVENT
END:VCALENDAR