BEGIN:VCALENDAR
VERSION:2.0
PRODID:-//Plone.org//NONSGML plone.app.event//EN
X-WR-TIMEZONE:Europe/Madrid
BEGIN:VEVENT
SUMMARY:Taller: 'Despertem'
DTSTART;TZID=Europe/Madrid;VALUE=DATE-TIME:20191122T190000
DTEND;TZID=Europe/Madrid;VALUE=DATE-TIME:20191122T200000
DTSTAMP;VALUE=DATE-TIME:20260423T075040Z
UID:18d2fd0343122d5b18936e7ba91d3eeb
CREATED;VALUE=DATE-TIME:20191122T000000Z
CATEGORIES:Conferència
LOCATION:Espai Labandària - Passeig de Jaume Brutau, 4
ORGANIZER:Si Dona
COMMENT:Preu: Gratuit
Durada: Una hora, aprox.
DESCRIPTION:Treballem les emocions per deixar fluir els sentiments
URL:https://ajllavaneres.cat/document.php?id=14239
END:VEVENT
END:VCALENDAR