BEGIN:VCALENDAR
VERSION:2.0
PRODID:-//Plone.org//NONSGML plone.app.event//EN
X-WR-TIMEZONE:Europe/Madrid
BEGIN:VEVENT
SUMMARY:Festa de cloenda del curset de natació d'estiu 2007
DTSTART;TZID=Europe/Madrid;VALUE=DATE-TIME:20070901T163000
DTEND;TZID=Europe/Madrid;VALUE=DATE-TIME:20070901T173000
DTSTAMP;VALUE=DATE-TIME:20260419T201143Z
UID:2cfbafb17e7ad739cb4ff63b6f23e10f
CREATED;VALUE=DATE-TIME:20070901T000000Z
CATEGORIES:Esports
LOCATION:Piscina Municipal
ORGANIZER:Fels & Eis i Regidoria d'Esports
URL:https://ajllavaneres.cat/document.php?id=145
END:VEVENT
END:VCALENDAR