BEGIN:VCALENDAR
VERSION:2.0
PRODID:-//Plone.org//NONSGML plone.app.event//EN
X-WR-TIMEZONE:Europe/Madrid
BEGIN:VEVENT
SUMMARY:Xerrada: 'El poder de l'estalvi'
DTSTART;TZID=Europe/Madrid;VALUE=DATE-TIME:20200131T190000
DTEND;TZID=Europe/Madrid;VALUE=DATE-TIME:20200131T200000
DTSTAMP;VALUE=DATE-TIME:20260420T173028Z
UID:4aa99db02914affc31521ae87e93552f
CREATED;VALUE=DATE-TIME:20200131T000000Z
CATEGORIES:Conferència
LOCATION:Espai Labandària - Passeig de Jaume Brutau, 4
ORGANIZER:Si Dona, Servei integral a la Dona
COMMENT:Preu: 5 &euro;, socis, gratuït
Durada: Fins a les 20:00h
DESCRIPTION:A càrrec de Pilar Gómez.
URL:https://ajllavaneres.cat/document.php?id=14653
END:VEVENT
END:VCALENDAR