BEGIN:VCALENDAR
VERSION:2.0
PRODID:-//Plone.org//NONSGML plone.app.event//EN
X-WR-TIMEZONE:Europe/Madrid
BEGIN:VEVENT
SUMMARY:Inauguració de l'exposició de pintures de Salvador Pujol
DTSTART;TZID=Europe/Madrid;VALUE=DATE-TIME:20070901T190000
DTEND;TZID=Europe/Madrid;VALUE=DATE-TIME:20070901T200000
DTSTAMP;VALUE=DATE-TIME:20260420T073751Z
UID:ae52a3fe1d4c75cd3bb7b4a9e79a6342
CREATED;VALUE=DATE-TIME:20070901T000000Z
CATEGORIES:Exposició
LOCATION:Sala Polivalent de Ca l'Alfaro
ORGANIZER:Associació de Familiars Malalts d'Alzheimer del Maresme, Associació Sant Lluc per l'Art de Mataró i Regidoria de Benestar Social
URL:https://ajllavaneres.cat/document.php?id=151
END:VEVENT
END:VCALENDAR