BEGIN:VCALENDAR
VERSION:2.0
PRODID:-//Plone.org//NONSGML plone.app.event//EN
X-WR-TIMEZONE:Europe/Madrid
BEGIN:VEVENT
SUMMARY:51è Homenatge a la Vellesa
DTSTART;TZID=Europe/Madrid;VALUE=DATE-TIME:20070909T113000
DTEND;TZID=Europe/Madrid;VALUE=DATE-TIME:20070909T123000
DTSTAMP;VALUE=DATE-TIME:20260420T051945Z
UID:c3d6664de890e3c4201fff984db703a7
CREATED;VALUE=DATE-TIME:20070909T000000Z
CATEGORIES:Festa
ORGANIZER:Patronat Local de la Vellesa
URL:https://ajllavaneres.cat/document.php?id=152
END:VEVENT
END:VCALENDAR