BEGIN:VCALENDAR
VERSION:2.0
PRODID:-//Plone.org//NONSGML plone.app.event//EN
X-WR-TIMEZONE:Europe/Madrid
BEGIN:VEVENT
SUMMARY:Caiac i pàdel surf en familia. ANUL·LAT
DTSTART;TZID=Europe/Madrid;VALUE=DATE-TIME:20200718T100000
DTEND;TZID=Europe/Madrid;VALUE=DATE-TIME:20200718T110000
DTSTAMP;VALUE=DATE-TIME:20260419T143224Z
UID:f107d27a9abbcb587f2778b41f12e3ab
CREATED;VALUE=DATE-TIME:20200718T000000Z
CATEGORIES:Esports
LOCATION:Platja  d'El Balís
ORGANIZER:Regidoria d'Esports i CN Balís
COMMENT:Preu: Gratuït
URL:https://ajllavaneres.cat/document.php?id=15213
END:VEVENT
END:VCALENDAR