BEGIN:VCALENDAR
VERSION:2.0
PRODID:-//Plone.org//NONSGML plone.app.event//EN
X-WR-TIMEZONE:Europe/Madrid
BEGIN:VEVENT
SUMMARY:Sessió ordinària del Consell Escolar Municipal
DTSTART;TZID=Europe/Madrid;VALUE=DATE-TIME:20200721T170000
DTEND;TZID=Europe/Madrid;VALUE=DATE-TIME:20200721T180000
DTSTAMP;VALUE=DATE-TIME:20260420T013053Z
UID:7bac516b56985389a32644f8bc2f25ac
CREATED;VALUE=DATE-TIME:20200721T000000Z
CATEGORIES:Reunió,Agenda institucional
LOCATION:Es farà telemàticament
ORGANIZER:Regidoria d'Educació
COMMENT:Durada: 2 hores
DESCRIPTION:Assistirà Maria José Cano, regidora d'Educació
URL:https://ajllavaneres.cat/document.php?id=15220
END:VEVENT
END:VCALENDAR