BEGIN:VCALENDAR
VERSION:2.0
PRODID:-//Plone.org//NONSGML plone.app.event//EN
X-WR-TIMEZONE:Europe/Madrid
BEGIN:VEVENT
SUMMARY:Conferència: &OpenCurlyDoubleQuote;L'Alzheimer: tan a prop i tan desconegut&CloseCurlyDoubleQuote;
DTSTART;TZID=Europe/Madrid;VALUE=DATE-TIME:20070905T200000
DTEND;TZID=Europe/Madrid;VALUE=DATE-TIME:20070905T210000
DTSTAMP;VALUE=DATE-TIME:20260420T015123Z
UID:179dde1b3f51e9d4354a74e35e4ab415
CREATED;VALUE=DATE-TIME:20070905T000000Z
CATEGORIES:Conferència
LOCATION:Sala de Plens de l´Ajuntament
ORGANIZER:Associació de Malalts d'Alzeimer del Maresme, Associació Sant Lluc per l'Art de Mataró i Regidoria de Benestar Social
URL:https://ajllavaneres.cat/document.php?id=153
END:VEVENT
END:VCALENDAR