BEGIN:VCALENDAR
VERSION:2.0
PRODID:-//Plone.org//NONSGML plone.app.event//EN
X-WR-TIMEZONE:Europe/Madrid
BEGIN:VEVENT
SUMMARY:Diada Nacional de Catalunya
DTSTART;TZID=Europe/Madrid;VALUE=DATE-TIME:20070911T123000
DTEND;TZID=Europe/Madrid;VALUE=DATE-TIME:20070911T133000
DTSTAMP;VALUE=DATE-TIME:20260420T003606Z
UID:50a9be08c016f1ca6f9e0c707159ab76
CREATED;VALUE=DATE-TIME:20070911T000000Z
CATEGORIES:Festa
LOCATION:Monòlit de Rafael Casanova, al parc del pg. de la Mare de Déu de Montserrat
ORGANIZER:Regidoria de Cultura i Festes
DESCRIPTION:Ofrena floral a càrrec del Consistori, entitats i associacions
URL:https://ajllavaneres.cat/document.php?id=154
END:VEVENT
END:VCALENDAR