BEGIN:VCALENDAR
VERSION:2.0
PRODID:-//Plone.org//NONSGML plone.app.event//EN
X-WR-TIMEZONE:Europe/Madrid
BEGIN:VEVENT
SUMMARY:Gent del Barri 2020: preparació de les assemblees
DTSTART;TZID=Europe/Madrid;VALUE=DATE-TIME:20201109T093000
DTEND;TZID=Europe/Madrid;VALUE=DATE-TIME:20201109T103000
DTSTAMP;VALUE=DATE-TIME:20260419T235417Z
UID:a6224117efa6ddae2c7f86f2852667b8
CREATED;VALUE=DATE-TIME:20201109T000000Z
CATEGORIES:Procés participatiu,Agenda institucional
LOCATION:Sessió telemàtica
ORGANIZER:Regidoria de Participació Ciutadana
DESCRIPTION:Amb el regidor de Participació Ciutadana, Gerard Viladomat
URL:https://ajllavaneres.cat/document.php?id=15483
END:VEVENT
END:VCALENDAR