BEGIN:VCALENDAR
VERSION:2.0
PRODID:-//Plone.org//NONSGML plone.app.event//EN
X-WR-TIMEZONE:Europe/Madrid
BEGIN:VEVENT
SUMMARY:Cloenda de les XXXV Jornades Internacionals Folklòriques de Catalunya (Adifolk)
DTSTART;TZID=Europe/Madrid;VALUE=DATE-TIME:20070916T190000
DTEND;TZID=Europe/Madrid;VALUE=DATE-TIME:20070916T200000
DTSTAMP;VALUE=DATE-TIME:20260420T100331Z
UID:55d301b49982e823ac900001de9afc40
CREATED;VALUE=DATE-TIME:20070916T000000Z
LOCATION:Parc de Ca l'Alfaro
ORGANIZER:Regidoria de Cultura i Festes
URL:https://ajllavaneres.cat/document.php?id=155
END:VEVENT
END:VCALENDAR