BEGIN:VCALENDAR
VERSION:2.0
PRODID:-//Plone.org//NONSGML plone.app.event//EN
X-WR-TIMEZONE:Europe/Madrid
BEGIN:VEVENT
SUMMARY:Multifocs Sant Andreu
DTSTART;TZID=Europe/Madrid;VALUE=DATE-TIME:20201128T190000
DTEND;TZID=Europe/Madrid;VALUE=DATE-TIME:20201128T200000
DTSTAMP;VALUE=DATE-TIME:20260421T124722Z
UID:90a0054f9bf083d79c84d244af2cd69e
CREATED;VALUE=DATE-TIME:20201128T000000Z
LOCATION:Al balcó de casa i www.youtube.com/ajllavaneres
ORGANIZER:Els Banyuts, colla de diables d'El Casal de Llavaneres
COMMENT:Preu: Gratuït
URL:https://ajllavaneres.cat/document.php?id=15525
END:VEVENT
END:VCALENDAR