BEGIN:VCALENDAR
VERSION:2.0
PRODID:-//Plone.org//NONSGML plone.app.event//EN
X-WR-TIMEZONE:Europe/Madrid
BEGIN:VEVENT
SUMMARY:Excursió a la fàbrica de xocolata Torres
DTSTART;TZID=Europe/Madrid;VALUE=DATE-TIME:20070920T000000
DTEND;TZID=Europe/Madrid;VALUE=DATE-TIME:20070920T010000
DTSTAMP;VALUE=DATE-TIME:20260423T035900Z
UID:3e1fa3c19624f2d1b6ee7cb295b4545f
CREATED;VALUE=DATE-TIME:20070920T000000Z
CATEGORIES:Festa
ORGANIZER:Patronat Local de la Vellesa
COMMENT:Preu: Reserves: 3, 4 i 5 de setembre de 19 a 20h, al Casal de la Gent Gran
Durada: Tot el dia
DESCRIPTION:Dinar de germanor
URL:https://ajllavaneres.cat/document.php?id=156
END:VEVENT
END:VCALENDAR