BEGIN:VCALENDAR
VERSION:2.0
PRODID:-//Plone.org//NONSGML plone.app.event//EN
X-WR-TIMEZONE:Europe/Madrid
BEGIN:VEVENT
SUMMARY:Reunió Comissió Campament Reial, Alcalde i Regidor de cultura
DTSTART;TZID=Europe/Madrid;VALUE=DATE-TIME:20201215T190000
DTEND;TZID=Europe/Madrid;VALUE=DATE-TIME:20201215T200000
DTSTAMP;VALUE=DATE-TIME:20260419T165732Z
UID:600c6cc500a1994a137d485f55ba8355
CREATED;VALUE=DATE-TIME:20201215T000000Z
CATEGORIES:Reunió
LOCATION:Sala de Juntes - Plaça de la Vila, 1
URL:https://ajllavaneres.cat/document.php?id=15663
END:VEVENT
END:VCALENDAR