BEGIN:VCALENDAR
VERSION:2.0
PRODID:-//Plone.org//NONSGML plone.app.event//EN
X-WR-TIMEZONE:Europe/Madrid
BEGIN:VEVENT
SUMMARY:Reunió per al pas a P3: Escola Jaume Llull
DTSTART;TZID=Europe/Madrid;VALUE=DATE-TIME:20210217T180000
DTEND;TZID=Europe/Madrid;VALUE=DATE-TIME:20210217T190000
DTSTAMP;VALUE=DATE-TIME:20260425T215706Z
UID:ecb112b27c080db72ac1fe39affd58a7
CREATED;VALUE=DATE-TIME:20210217T000000Z
CATEGORIES:Infantils
LOCATION:Sessió telemàtica. Enllaç.
ORGANIZER:Escola Jaume Llull
DESCRIPTION:Adreçada als pares d'infants nascuts al 2018
URL:https://ajllavaneres.cat/document.php?id=15817
END:VEVENT
END:VCALENDAR