BEGIN:VCALENDAR
VERSION:2.0
PRODID:-//Plone.org//NONSGML plone.app.event//EN
X-WR-TIMEZONE:Europe/Madrid
BEGIN:VEVENT
SUMMARY:Curs: 'Conductor de carretilla elevadora'
DTSTART;TZID=Europe/Madrid;VALUE=DATE-TIME:20210524T080000
DTEND;TZID=Europe/Madrid;VALUE=DATE-TIME:20210524T090000
DTSTAMP;VALUE=DATE-TIME:20260422T230436Z
UID:91d2dbe437564305704347e21b99cc22
CREATED;VALUE=DATE-TIME:20210524T000000Z
CATEGORIES:Cursos
ORGANIZER:Regidoria d'Ocupació
COMMENT:Preu: 50 euros (les persones a l'atur estan exemptes de pagament)
Durada: 24 hores
URL:https://ajllavaneres.cat/document.php?id=16039
END:VEVENT
END:VCALENDAR