BEGIN:VCALENDAR
VERSION:2.0
PRODID:-//Plone.org//NONSGML plone.app.event//EN
X-WR-TIMEZONE:Europe/Madrid
BEGIN:VEVENT
SUMMARY:Taller: 'Negocis i família. Eines i estructures per a una família empresària feliç' (6h)
DTSTART;TZID=Europe/Madrid;VALUE=DATE-TIME:20210614T180000
DTEND;TZID=Europe/Madrid;VALUE=DATE-TIME:20210614T190000
DTSTAMP;VALUE=DATE-TIME:20260424T105053Z
UID:68d206c084a19aaeb16feb9054fd5893
CREATED;VALUE=DATE-TIME:20210614T000000Z
CATEGORIES:Cursos,Conferència
LOCATION:Sessió telemàtica
ORGANIZER:Regidoria de Promoció Econòmica, Empresa, Comerç, Turisme i Consum
COMMENT:Preu: Gratuït
Durada: També es farà els dies 16 i 21 de juny, de 18 a 20 h. Durada total: 6 h
DESCRIPTION:14, 16 i 21 de juny. A càrrec de Mero Aymà, assessor i coach per a famílies empresàries
URL:https://ajllavaneres.cat/document.php?id=16180
END:VEVENT
END:VCALENDAR