BEGIN:VCALENDAR
VERSION:2.0
PRODID:-//Plone.org//NONSGML plone.app.event//EN
X-WR-TIMEZONE:Europe/Madrid
BEGIN:VEVENT
SUMMARY:Període de matriculació a l'Escola Municipal de Música
DTSTART;TZID=Europe/Madrid;VALUE=DATE-TIME:20210622T000000
DTEND;TZID=Europe/Madrid;VALUE=DATE-TIME:20210622T010000
DTSTAMP;VALUE=DATE-TIME:20260424T152809Z
UID:37a3202be40937932693a48e14359d49
CREATED;VALUE=DATE-TIME:20210615T000000Z
CATEGORIES:Cursos
LOCATION:Més info a ajllavaneres.cat/emm
URL:https://ajllavaneres.cat/document.php?id=16223
END:VEVENT
END:VCALENDAR